BEGIN:VCALENDAR
VERSION:2.0
PRODID:-//Tukios.com/
BEGIN:VEVENT
UID:ea633b3d-deed-4f42-b1e8-89970dc7a70f@www.colonialchapelbaysprings.com
DTSTAMP:20260424T012049Z
DTSTART:20260426T180000Z
DTEND:20260426T200000Z
SUMMARY:Visitation
DESCRIPTION:
URL:https://www.colonialchapelbaysprings.com/obituaries/john-martin-tillson
LOCATION: 221 Sylvarena Ave  Raleigh MS 39153
GEO:32.0340554;-89.5199287
END:VEVENT
END:VCALENDAR