BEGIN:VCALENDAR
VERSION:2.0
PRODID:-//Tukios.com/
BEGIN:VEVENT
UID:6f896319-f20b-4a06-baaf-c0d0fb5c1936@www.colonialchapelbaysprings.com
DTSTAMP:20260424T012534Z
DTSTART:20260426T201500Z
DTEND:20260426T211500Z
SUMMARY:Graveside Service
DESCRIPTION:
URL:https://www.colonialchapelbaysprings.com/obituaries/john-martin-tillson
LOCATION:Sylvarena Cemetery 52 SCR 52  Raleigh MS 39153
GEO:32.033488;-89.5222911
END:VEVENT
END:VCALENDAR